BEGIN:VCALENDAR
VERSION:2.0
PRODID:-//特殊教育需要┃「愛．家庭」賽馬會成長中心 X 香港聖公會愛童行計劃 - ECPv6.15.20//NONSGML v1.0//EN
CALSCALE:GREGORIAN
METHOD:PUBLISH
X-WR-CALNAME:特殊教育需要┃「愛．家庭」賽馬會成長中心 X 香港聖公會愛童行計劃
X-ORIGINAL-URL:https://skhwcwelove.org.hk
X-WR-CALDESC:Events for 特殊教育需要┃「愛．家庭」賽馬會成長中心 X 香港聖公會愛童行計劃
REFRESH-INTERVAL;VALUE=DURATION:PT1H
X-Robots-Tag:noindex
X-PUBLISHED-TTL:PT1H
BEGIN:VTIMEZONE
TZID:Asia/Hong_Kong
BEGIN:STANDARD
TZOFFSETFROM:+0800
TZOFFSETTO:+0800
TZNAME:HKT
DTSTART:20200101T000000
END:STANDARD
END:VTIMEZONE
BEGIN:VEVENT
DTSTART;TZID=Asia/Hong_Kong:20220921T043000
DTEND;TZID=Asia/Hong_Kong:20221026T171500
DTSTAMP:20260420T162044
CREATED:20220907T100027Z
LAST-MODIFIED:20220915T064806Z
UID:5629-1663734600-1666804500@skhwcwelove.org.hk
SUMMARY:繪本偵探家 - 言語治療小組
DESCRIPTION:孩子講話缺乏邏輯、連貫性，別人會聽得一頭霧水 \n可能是「敍事能力」出問題！ \n要提升敍事能力，不妨用繪本 x 活動 \n「繪本偵探家」以繪本故事和遊戲活動 \n為讓孩子裝備高階邏輯思維及閱讀基礎 \n  \n每節導師都會以熱身遊戲，如彈樂器、抽卡開始 \n配合繪本故事，逐步建立故事理解、文法、推敲事件等進階思維 \n最後會以延伸活動作結，加強語素概念及分析 \n  \n提高他的敍事能力，就由今天開始！ \n>> https://bit.ly/3wdYznx \n  \n繪本偵探家 – 言語治療小組 \n日期：21/9、28/9、5/10、12/10、19/10、26/10（逢星期三） \n時間：4:30pm – 5:15pm \n對象：5-7 歲學童（確診或懷疑有特殊學習需要） \n名額：6 \n導師：言語治療師 – 呂曉嵐姑娘 \n費用：$2\,400 /6節 \n地點：九龍馬頭涌道139號聖三一白普理中心 3 樓 \n宣傳單張：https://bit.ly/3qBisSt \n報名：https://bit.ly/3wdYznx
URL:https://skhwcwelove.org.hk/event/picture_book_2022/
CATEGORIES:Welove_Event
ATTACH;FMTTYPE=image/jpeg:https://skhwcwelove.org.hk/wp-content/uploads/2022/09/picturebook_web.jpg
END:VEVENT
BEGIN:VEVENT
DTSTART;VALUE=DATE:20220902
DTEND;VALUE=DATE:20230115
DTSTAMP:20260420T162044
CREATED:20220822T100023Z
LAST-MODIFIED:20221215T044531Z
UID:5575-1662076800-1673740799@skhwcwelove.org.hk
SUMMARY:【秋日開學祭】9 - 12月 秋季課程
DESCRIPTION:孩子表達弱，你有想過可以用音樂和舞步表達自己嗎？ \n未習慣小學生活，讓我們與你同行尋找適應方法 \n擔心自己與孩子的關係，親子工作坊讓你快速掌握相處技巧 \n  \n愛家庭與孩子和家長們展開秋日好學旅程！ \n孩子遇上開學，也可以好玩又有益 \n不論在社交互動、表達能力、小學適應，甚至家長育兒小組 \n針對解決孩子不專心、易分心、少互動 \n不願表達內心情感，以及升讀小學帶來的不適應 \n每個小組由資深導師及社工教授 \n  \n名額有限，讓孩子先行感受！ \n>>https://bit.ly/3wdYznx \n  \n【秋日開學祭】完整版單張 \nhttps://bit.ly/3pqeR8Z
URL:https://skhwcwelove.org.hk/event/22_sep_dec_course/
CATEGORIES:Welove_Event
ATTACH;FMTTYPE=image/jpeg:https://skhwcwelove.org.hk/wp-content/uploads/2022/08/2022_welove_Autumn_course_cover.jpg
END:VEVENT
BEGIN:VEVENT
DTSTART;TZID=Asia/Hong_Kong:20220527T163000
DTEND;TZID=Asia/Hong_Kong:20220624T173000
DTSTAMP:20260420T162044
CREATED:20220504T100007Z
LAST-MODIFIED:20221026T045536Z
UID:4988-1653669000-1656091800@skhwcwelove.org.hk
SUMMARY:【Come on 你我齊翻筋斗】 - 體操班
DESCRIPTION:長期的疫情，孩子有電不能放\n「喺呢個時候，我要爆啦！！！」\nSEN 孩子總是轉不停、不如過來一起玩，一起發洩！ \n \n放電、學習紀律、訓練肌肉協調，一次滿足3個願望！ \n>> https://forms.gle/rLkS53w7EVDLUNjNA \n  \n活動目標： \n✅ 提升學習專注度 \n✅ 加強社群適應力 \n✅ 察覺個人本體覺 \n✅ 體育和團隊精神 \n  \n——————————————– \n【Come on 你我齊翻筋斗】 – 體操班 \n日期：2022 年 5 月 27 日、6 月 10 、 17 及 24 日（逢星期五） \n時間：下午 4 時 30 分至 5 時 30 分 \n導師：Kit教練（Sport Aerobics 一級教練及高級特殊幼兒工作員） \n形式：面授 \n對象：3-6歲懷疑或已評估有特殊學習需要的兒童 \n人數：4 名 \n報名：https://forms.gle/rLkS53w7EVDLUNjNA \n查詢：8201 1163 \n  \nKit 教練簡介 🤸 \n第一屆香港 Sport Aerobics 一級教練 \n曾為各大小學參與兒童體操公開比賽取得良好成績 \n曾參與香港 Nike 女子舞蹈公開比賽獲獎
URL:https://skhwcwelove.org.hk/event/gymnastics_course_2022/
CATEGORIES:Welove_Event
ATTACH;FMTTYPE=image/jpeg:https://skhwcwelove.org.hk/wp-content/uploads/2022/05/2804-FB工作區域-1.jpg
END:VEVENT
BEGIN:VEVENT
DTSTART;TZID=Asia/Hong_Kong:20220514T100000
DTEND;TZID=Asia/Hong_Kong:20220604T110000
DTSTAMP:20260420T162044
CREATED:20220422T100010Z
LAST-MODIFIED:20220504T085927Z
UID:4739-1652522400-1654340400@skhwcwelove.org.hk
SUMMARY:親子Brick一Break - 六色積木親子小組
DESCRIPTION:別小看簡單的「六色積木」\n它絕對是鍛錬孩子多元能力的好工具！\n \n#成功報名即獲Duplo®積木 2 套 \n立即報名：https://forms.gle/7MhbEt71KLenrnoy9 \n  \n除了幫助孩子提升認知及抽象概念，鍛鍊大小肌運用 \n更可以提升創意思維，增強專注力 \n同時在互動中建立合作精神 \n培養溝通技巧及學習表達自己的需要 \n與孩子同樂中學習，享受親子時光！ \n  \n親子Brick一Break – 六色積木親子小組 \n日期：5 月 14 日至 6 月 4 日（逢星期六） \n地點：聖三一白普理中心 3樓 \n形式：面授 \n導師：註冊社工袁姑娘 \n報名：https://forms.gle/7MhbEt71KLenrnoy9（已包括 Duplo®積木 2 套） \n  \nA班 \n時間：上午 10 時至 11 時正 \n對象：K2 – K3 學童及家長 \n人數：4 對親子 \n  \nB班 \n時間：下午 2 時 30 分至 3 時 30 分 \n對象：小一至小二學生及家長 \n人數：4 對親子 \n  \n＊小組會因應疫情發展按需要更改授課形式，有關費用將不設退款，敬請留意。
URL:https://skhwcwelove.org.hk/event/lego_course_2022/
CATEGORIES:Welove_Event
ATTACH;FMTTYPE=image/jpeg:https://skhwcwelove.org.hk/wp-content/uploads/2022/04/lego_course_cover_2022_large.jpg
END:VEVENT
BEGIN:VEVENT
DTSTART;TZID=Asia/Hong_Kong:20220423T100000
DTEND;TZID=Asia/Hong_Kong:20220430T110000
DTSTAMP:20260420T162044
CREATED:20220328T103014Z
LAST-MODIFIED:20220504T085957Z
UID:4657-1650708000-1651316400@skhwcwelove.org.hk
SUMMARY:「活出動感小珍寶」 - 治療舞蹈視像小組
DESCRIPTION:孩子的天性就是愛玩耍、走走跳跳\n不想局限他們的創意和想像力，就盡情享受音樂吧！\n\n\n\n\n​\n\n\n幼兒學習聆聽音樂同時配合導師特意設計的治療動作\n\n\n「治療舞蹈」能改善幼兒左右腦發展缺失\n提升身體協調能力，能對應日常生活面對的困難\n以加強其解決困難的能力\n立即報名讓孩子盡情舞動，以治療舞蹈，提升多方面發展！\n\n\n\n\n\n​\n\n\n\n\n\n「活出動感小珍寶」 – 治療舞蹈視像小組\n\n\n日期：2022 年 4 月 23 日及 4 月 30 日（逢星期六）\n時間：上午 10 時至 11 時正\n導師：高級特殊幼兒工作員兼藝術導師梁潔儀姑娘及特殊幼兒工作員梁嘉佩姑娘\n形式：zoom 實時視像\n對象：K1 – K3 學童\n人數：4人\n查詢：8201 1163\n網上報名：https://forms.gle/8oe7E5bWmnstX1Kg8
URL:https://skhwcwelove.org.hk/event/dancing_course_2022/
CATEGORIES:Welove_Event
ATTACH;FMTTYPE=image/jpeg:https://skhwcwelove.org.hk/wp-content/uploads/2022/04/活出動感_16-9.jpg
END:VEVENT
BEGIN:VEVENT
DTSTART;TZID=Asia/Hong_Kong:20220422T140000
DTEND;TZID=Asia/Hong_Kong:20220507T150000
DTSTAMP:20260420T162044
CREATED:20220404T100020Z
LAST-MODIFIED:20220503T030506Z
UID:4628-1650636000-1651935600@skhwcwelove.org.hk
SUMMARY:足球小先鋒訓練班
DESCRIPTION:【機會嚟啦飛雲！】「足球小先鋒訓練班」返嚟啦\n孩子多久沒郁動？想踢長期的走家居抗疫苦悶感？\n就用足球，為孩子帶來活外活動的快樂！\n \n\n\n一個足球，帶來好玩有趣遊戲及練習，改善執行功能\n一個足球，鍛練孩子的體能、身體協調和平衡、辨識及認知能力\n一個足球，更能認識新朋友，增加與同儕溝通的機會\n一個足球，絕對能配合 SEN 孩子需要，改善多個訓練範疇！​\n​\n\n\n足球小先鋒訓練班\n日期：4 月 22 至 23 日、29 至 30 日、5 月 6 至 7 日（逢星期五及六）\n時間：下午 2 時至 3 時正\n地點：聖三一白普理中心 5 樓\n對象：4-6 歲幼童（懷疑或評估有特殊學習需要）\n人數：4-6 名（家長須陪同出席）\n導師：Happy Football Club* 資深足球教練 林 sir\n\n\n報名：https://forms.gle/ZKLrwj2j7EBV4gEf9​\n\n\n​\n​備註：幼童須穿著運動服及運動鞋。\n​\n​協辦機構\n\n\nHappy Football Club – 成立於 2009 年，致力為兒童提供有系統化之足球訓練。2011 年成立 Playgroup Class，為孩子提供具趣味性之足球興趣班。
URL:https://skhwcwelove.org.hk/event/%e8%b6%b3%e7%90%83%e5%b0%8f%e5%85%88%e9%8b%92%e8%a8%93%e7%b7%b4%e7%8f%ad/
CATEGORIES:Welove_Event
ATTACH;FMTTYPE=image/jpeg:https://skhwcwelove.org.hk/wp-content/uploads/2022/05/1-2.jpg
END:VEVENT
BEGIN:VEVENT
DTSTART;TZID=Asia/Hong_Kong:20220414T080000
DTEND;TZID=Asia/Hong_Kong:20220414T170000
DTSTAMP:20260420T162044
CREATED:20220413T100034Z
LAST-MODIFIED:20220503T031826Z
UID:4698-1649923200-1649955600@skhwcwelove.org.hk
SUMMARY:讀寫偵探小博士
DESCRIPTION:孩子學單詞過目就忘？寫字左右倒轉？容易疲倦，完成作業要更多專注力？\n讀寫偵探小博士助孩子擊退以上狀態！\n \n\n\n以針對認讀能力的互動活動如砌字拼圖、認字Bingo\n讓孩子沉浸於多感官學習\n學習動機及認讀能力就自然UP！\n\n\n\n​\n\n\n\n讀寫偵探小博士\n\n\n日期：5 月 12、19、26日、6 月 2、16及 23 日（逢星期四）\n地點：聖三一白普理中心 5 樓\n形式：面授\n導師：註冊社工袁姑娘\n報名：https://forms.gle/Rb193382WLAnuJNE8\n\n\n\n\n\n\n\n​A班\n\n\n\n\n時間：下午 2 時 30 分至 3 時 30 分\n對象：K2 – K3 學童（懷疑或評估有特殊學習需要）\n人數：4 名\n\n\n\n\n\n​\n\n\n\nB班\n\n\n時間：下午 4 時至 5 時正\n對象：小一至小二學生（懷疑或評估有特殊學習需要）\n人數：4 名\n\n\n\n\n​\n\n\n\n*小組會因應疫情發展按需要更改授課形式，有關費用將不設退款，敬請留意。
URL:https://skhwcwelove.org.hk/event/%e8%ae%80%e5%af%ab%e5%81%b5%e6%8e%a2%e5%b0%8f%e5%8d%9a%e5%a3%ab/
CATEGORIES:Welove_Event
ATTACH;FMTTYPE=image/jpeg:https://skhwcwelove.org.hk/wp-content/uploads/2022/05/poster_v2.jpg
END:VEVENT
BEGIN:VEVENT
DTSTART;TZID=Asia/Hong_Kong:20220413T140000
DTEND;TZID=Asia/Hong_Kong:20220428T150000
DTSTAMP:20260420T162044
CREATED:20220331T100058Z
LAST-MODIFIED:20220503T032253Z
UID:4648-1649858400-1651158000@skhwcwelove.org.hk
SUMMARY:「情緒調控小管家」
DESCRIPTION:「對唔住，頭先語氣重咗小小，唔好意思！」\n一時情緒起伏大，乃人之常情，更何況是孩子\n了解及學懂控制自己情緒，就是「叻仔叻女」！\n\n\n\n只要透過認識基本情緒，明白情緒有不同強弱度\n再教授「情緒心法」，調控孩子的負面情緒\n平伏過度興奮的心情或激動的惱火\n每個孩子都能成為自己的「情緒調控小管家」\n\n\n​\n「情緒調控小管家」\n日期：2022 年 4 月 13 日至 14 日、20 日至 21 日、27 日至 28 日（星期三及四）\n時間：下午 2 時至 3 時正\n導師：註冊社工 – 黃芷聆姑娘\n形式：zoom 實時視像\n對象：P1-P3 學童\n人數：6 人\n查詢：8201 1163\n網上報名：https://forms.gle/ReyEV6XL4xKdfxWG9
URL:https://skhwcwelove.org.hk/event/%e3%80%8c%e6%83%85%e7%b7%92%e8%aa%bf%e6%8e%a7%e5%b0%8f%e7%ae%a1%e5%ae%b6%e3%80%8d/
CATEGORIES:Welove_Event
ATTACH;FMTTYPE=image/jpeg:https://skhwcwelove.org.hk/wp-content/uploads/2022/05/emotion_adjustment_course_2022.jpg
END:VEVENT
BEGIN:VEVENT
DTSTART;TZID=Asia/Hong_Kong:20220404T093000
DTEND;TZID=Asia/Hong_Kong:20220414T174500
DTSTAMP:20260420T162044
CREATED:20220321T103024Z
LAST-MODIFIED:20220503T034246Z
UID:4565-1649064600-1649958300@skhwcwelove.org.hk
SUMMARY:「升小適應三步曲」- 8天學生小組
DESCRIPTION:「暑假」突然來襲，改變一貫上學模式\n擔心孩子無所適從，更憂慮9月升小開學？\n   \n我們為苦惱的爸媽打造「升小適應三步曲」 \n以循序漸進形式教授，同時照顧孩子及家長在升小的需要 \n在升小之旅中助你一臂，做好準備！ \n  \n\n———————————————— ​ \n\n「升小適應三步曲」- 8天學生小組\n\n目標：以認知、言語、社交、小肌、執行功能及課堂常規，提升學童在升小需要的基礎學習能力 \n日期：4/4 (一)、6/4 (三) 至 8/4 (五)、11/4 (一) 至 14/4 (四) (共8天) \n時間： \n上午9:30 – 11:00 （A班） \n上午11:30 – 1:00 （B班） \n下午2:15 – 3:45 （C班） \n下午4:15 – 5:45 （D班） \n形式：網上Zoom 實時進行 \n對象：K3學童 （鼓勵家長陪同參與） \n人數：10 – 15人 \n導師：言語治療師、職業治療師、特殊幼兒工作員及註冊社工 \n>> 28/3 或之前報名及交費享早鳥優惠 $2100 \n>> 28/3 或之前報名、交費及現正接受中心訓練（言語治療師、職業治療師、特殊幼兒工作員）服務學童享優惠價 $1800 \n報名：https://forms.gle/8Yf2wpEPHQQ5nR9i6 \n備註：此課程會提供實體教材套。 \n  \n2. 家長講座及親子工作坊 \n💥 即將開始，密切留意！ \n  \n3. 5天小一模擬課堂 \n💥 即將開始，密切留意！
URL:https://skhwcwelove.org.hk/event/primary_adaptation_1/
CATEGORIES:Welove_Event
ATTACH;FMTTYPE=image/jpeg:https://skhwcwelove.org.hk/wp-content/uploads/2022/05/1-1.jpg
END:VEVENT
BEGIN:VEVENT
DTSTART;TZID=Asia/Hong_Kong:20220325T080000
DTEND;TZID=Asia/Hong_Kong:20220325T170000
DTSTAMP:20260420T162044
CREATED:20220324T100038Z
LAST-MODIFIED:20220325T034144Z
UID:4558-1648195200-1648227600@skhwcwelove.org.hk
SUMMARY:「吾懂人情小珍寶」 - 社交遊戲訓練
DESCRIPTION:「吾懂人情小珍寶，有來有往好輕鬆！」\n\n  \n疫情期間，孩子的社交技巧可能已經生疏！離開學校約有半個月，當然要為孩子把握特別假期，在疫情期間也要「寓玩樂中學習」！ \n透過本中心專為孩子而設的社交遊戲訓練，以社交活動融於遊戲中。在遊玩過程，提升孩子的社交動機及技巧，溝通有來有往好Easy！ \n  \n———————————————— ​ \n「吾懂人情小珍寶」 – 社交遊戲訓練 \n日期：2022年4月1日及4月8日、4月22日及4月29日（逢星期五 ） \n時間：下午4時至5時正 \n導師：高級特殊幼兒工作員兼藝術導師梁潔儀姑娘及特殊幼兒工作員梁嘉佩姑娘 \n形式：zoom實時視像 \n對象：K1 – K3學童 \n人數：4人 \n查詢：8201 1163 \n網上報名：https://forms.gle/mkCcpdd6pBPxq3y68 \n查詢：8201 1163 \n費用：$300 / 2堂
URL:https://skhwcwelove.org.hk/event/%e3%80%8c%e5%90%be%e6%87%82%e4%ba%ba%e6%83%85%e5%b0%8f%e7%8f%8d%e5%af%b6%e3%80%8d-%e7%a4%be%e4%ba%a4%e9%81%8a%e6%88%b2%e8%a8%93%e7%b7%b4/
CATEGORIES:Welove_Event
ATTACH;FMTTYPE=image/jpeg:https://skhwcwelove.org.hk/wp-content/uploads/2022/03/cover.jpg
END:VEVENT
BEGIN:VEVENT
DTSTART;TZID=Asia/Hong_Kong:20220325T080000
DTEND;TZID=Asia/Hong_Kong:20220325T170000
DTSTAMP:20260420T162044
CREATED:20220318T100058Z
LAST-MODIFIED:20220325T034040Z
UID:4578-1648195200-1648227600@skhwcwelove.org.hk
SUMMARY:親子線上齊齊學 - 愉快學習
DESCRIPTION:與家中的幼兒溝通，都有特別技巧？\n學習小秘訣，遊戲時就能大幅提升幼兒能力？\n家中物品如何放置，都會影響幼兒專注力？\n\n「親子線上齊齊學」專為家居訓練以設，以個別化目標為首，1對1的網上授課， \n配以圖文、影片及音樂節奏韻律的互動教學，加上活用日常用品製作教材， \n從中訓練SEN孩子各方面能力，同時教導家長在家照顧SEN孩子的方法， \n在疫情期得到適切的治療，愉快地學習！ \n  \n———————————————— ​\n親子線上齊齊學 – 網上學習訓練\n服務對象：\n2-6歲懷疑或已評估有特殊學習需要的幼兒及家長\n\n\n課程導師：\n本中心資深特殊幼兒教育工作員\n\n\n時間：\n課堂主要安排星期四或五下午或星期六上午至下午時間；4節為一期；\n按幼兒需要定每節時間為 30 或 45 分鐘\n\n\n形式：\n以親子視像形式進行\n＊確實時間可與導師協調確定\n\n\n收費：\n– 每節課堂 30 分鐘，每期 4 節：$1\,200\n– 每節課堂 45 分鐘，每期 4 節：$1\,800\n\n\n報名：\nhttps://bit.ly/3sbAM6f\n\n\n查詢：\n歡迎致電 8201 1163 與中心職員聯絡。\n\n\n備註：\n\n\n請家長子女預備進行視像課堂的坐椅及鏡頭設備（鏡前：幼兒能展露出上半身）\n按課堂內容需要，請家長在課堂前預備導師要求的家中簡單的日常用品，以配合訓練及家居訓練\n導師會於每節課後，按幼兒當天的學習表現及需要，提供家居訓練以便跟進幼兒的學習進度
URL:https://skhwcwelove.org.hk/event/%e8%a6%aa%e5%ad%90%e7%b7%9a%e4%b8%8a%e9%bd%8a%e9%bd%8a%e5%ad%b8-%e6%84%89%e5%bf%ab%e5%ad%b8%e7%bf%92/
CATEGORIES:Welove_Event
ATTACH;FMTTYPE=image/png:https://skhwcwelove.org.hk/wp-content/uploads/2022/03/online_class_3_cover.png
END:VEVENT
BEGIN:VEVENT
DTSTART;TZID=Asia/Hong_Kong:20220322T123000
DTEND;TZID=Asia/Hong_Kong:20220322T140000
DTSTAMP:20260420T162044
CREATED:20220315T100012Z
LAST-MODIFIED:20220325T031328Z
UID:4553-1647952200-1647957600@skhwcwelove.org.hk
SUMMARY:「疫來順受」家長與幼兒留家提升抗逆力講座
DESCRIPTION:逆來你們會順從接受嗎？\n我只知道，不論道逆來或是「疫」來我們都需要靈活、聰明地抵受鍛煉自己強大的內心和抗逆能力！ \n  \n讓我們教授「不能出行，仍能安心」的不敗心法！讓爸媽面對改變帶來的衝擊； \n其次是就算「輸人」亦「唔輸陣」 好好利用環境、生活節奏和細節建立良好行為！ \n  \n「疫來順受」 \n家長與幼兒留家提升抗逆力講座 \n———————————————— ​ \n日期：2022 年 3 月 22 日（星期二） \n時間：中午 12 時 30 分至下午 2 時正 \n講者：臨床心理學家藍兆雅女士 \n形式：zoom形式實時網上進行 \n對象：育有幼稚園子女的家長 \n報名：https://bit.ly/37b8bFW \n查詢：8201 1163 \n  \n 
URL:https://skhwcwelove.org.hk/event/%e3%80%8c%e7%96%ab%e4%be%86%e9%a0%86%e5%8f%97%e3%80%8d%e5%ae%b6%e9%95%b7%e8%88%87%e5%b9%bc%e5%85%92%e7%95%99%e5%ae%b6%e6%8f%90%e5%8d%87%e6%8a%97%e9%80%86%e5%8a%9b%e8%ac%9b%e5%ba%a7/
CATEGORIES:Welove_Event
ATTACH;FMTTYPE=image/jpeg:https://skhwcwelove.org.hk/wp-content/uploads/2022/03/疫來順受We-love-e1648173995770.jpg
END:VEVENT
BEGIN:VEVENT
DTSTART;TZID=Asia/Hong_Kong:20220225T120000
DTEND;TZID=Asia/Hong_Kong:20220425T183000
DTSTAMP:20260420T162044
CREATED:20220225T100025Z
LAST-MODIFIED:20220325T034110Z
UID:4545-1645790400-1650911400@skhwcwelove.org.hk
SUMMARY:親子線上齊齊學 - 網上學習訓練
DESCRIPTION:因應疫情期間或特別原因使幼兒未能進行實體學習訓練，期望透過視像親子學堂，按個別幼兒在認知、語言、社交、自理及大小肌發展需要，以及家中行為表現，為家長提供照顧及教養有特殊學習需要幼兒的處理方法及建議​ \n服務特色：\n\n\n按個別幼兒在主流學校未能達標的學習範疇、需要及特性設計主題教學模式\n透過視像即時互動遊戲，引起幼兒的發音、溝通意向、語言表達及社交動機\n增強幼兒的模仿能力，學習跟隨指令做動作、手勢或說話內容等\n即場安排親子互動環節，導師在旁給予指引及提升家長與子女互動的技巧\n\n\n服務內容：\n\n個別化目標課堂前請家長填寫幼兒學習能力及家中表現問卷，配合視像課堂時與家長深入了解幼兒的個別需要及家中表現，從而制定個別化的訓練目標\n主題教學配以主題相關圖片、影片及線上互動為教學途徑，增強趣味性並讓幼兒做到在家停課不停學\n擴闊生活經驗利用日常生活日用品，教導家長製作教材，讓家長成為幼兒的家中教師\n多元代藝術透過音樂、節奏、言語和韻律等互動內容，增強幼兒對學習興趣、專注力、溝通意向以及社交互動\n\n\n———————————————— ​\n服務對象：\n2-6歲懷疑或已評估有特殊學習需要的幼兒及家長\n\n\n課程導師：\n本中心資深特殊幼兒教育工作員\n\n\n時間：\n課堂主要安排星期四或五下午或星期六上午至下午時間；4節為一期；\n按幼兒需要定每節時間為 30 或 45 分鐘\n\n\n形式：\n以親子視像形式進行\n＊確實時間可與導師協調確定\n\n\n收費：\n– 每節課堂 30 分鐘，每期 4 節：$1\,200\n– 每節課堂 45 分鐘，每期 4 節：$1\,800\n\n\n報名：\nhttps://bit.ly/3sbAM6f\n\n\n查詢：\n歡迎致電 8201 1163 與中心職員聯絡。\n\n\n備註：\n\n\n請家長子女預備進行視像課堂的坐椅及鏡頭設備（鏡前：幼兒能展露出上半身）\n按課堂內容需要，請家長在課堂前預備導師要求的家中簡單的日常用品，以配合訓練及家居訓練\n導師會於每節課後，按幼兒當天的學習表現及需要，提供家居訓練以便跟進幼兒的學習進度\n\n 
URL:https://skhwcwelove.org.hk/event/online_course/
CATEGORIES:Welove_Event
ATTACH;FMTTYPE=image/jpeg:https://skhwcwelove.org.hk/wp-content/uploads/2022/03/274834734_980271215930966_6254705813370081105_n-e1648173149165.jpg
END:VEVENT
BEGIN:VEVENT
DTSTART;VALUE=DATE:20211023
DTEND;VALUE=DATE:20211114
DTSTAMP:20260420T162044
CREATED:20211228T061913Z
LAST-MODIFIED:20220503T043212Z
UID:2945-1634947200-1636847999@skhwcwelove.org.hk
SUMMARY:感統大探索 - 感覺統合訓練
DESCRIPTION:———————————————— ​\n感統大探索 – 感覺統合訓練 \nA組: 日期：2021 年 9 月 7 日 – 10 月 26 日（逢星期五，共 8 堂）​​\n時間：下午 5 時正至 6 時正​\nB組: 日期：2021 年 9 月 10 日 – 10 月 29 日（逢星期五，共 8 堂）​\n時間：下午 4 時正至 5 時正​\n對象：K1至K3學童（已評估或懷疑有特殊學習需要學童）​\n​報名及查詢： 8201 1163​\n中心地址：九龍馬頭涌道 139 號聖三一白普理中心 3 樓（宋皇臺站 B1 出口）​\n​\n———————————————— ​ \n透過不同類型及不同程度的感覺刺激活動，包括前庭感、本體感、觸感等，改善大腦處理及統合不同感覺訊息的能力，幫助幼童達至合適的醒覺狀態，從而提升專注力及肢體協調能力，提高學習效能。 \n\n提升專注力\n提高學習效能\n提升肢體協調能力\n改善大腦處理及統合不同感覺訊息\n\n導師：\n註冊一級職業治療師 — 顧靜儀
URL:https://skhwcwelove.org.hk/event/%e6%84%9f%e7%b5%b1%e5%a4%a7%e6%8e%a2%e7%b4%a2-%e6%84%9f%e8%a6%ba%e7%b5%b1%e5%90%88%e8%a8%93%e7%b7%b4/
CATEGORIES:Welove_Event
ATTACH;FMTTYPE=image/jpeg:https://skhwcwelove.org.hk/wp-content/uploads/2022/05/6.jpg
END:VEVENT
BEGIN:VEVENT
DTSTART;VALUE=DATE:20211023
DTEND;VALUE=DATE:20211128
DTSTAMP:20260420T162044
CREATED:20211005T042722Z
LAST-MODIFIED:20220503T043115Z
UID:2938-1634947200-1638057599@skhwcwelove.org.hk
SUMMARY:完成活動無難度 - 執行功能訓練小組 （基礎班）
DESCRIPTION:———————————————— ​\n完成活動無難度– 基礎班 執行功能訓練小組​\n日期：2021 年 9 月 18 日 – 12 月 18 日（逢星期五，共 8 堂）​\n時間：下午 4 時正至下午 5 時正​\n對象：小一至小三學童（己評估或懷疑有特殊學習需要學童）​\n​報名及查詢： 8201 1163​\n中心地址：九龍馬頭涌道 139 號聖三一白普理中心 3 樓（宋皇臺站 B1 出口）​\n​\n———————————————— ​ \n執行功能包括自我控制能力、工作記憶及彈性思維能力。執行功能欠佳的學童往往會在專注、情緒及行為控制、解難能力上較弱，以致影響學童於學習、自理或群體活動的表現。小組透過不同的功能性活動如抄寫筆記、小玩具制作、完成特定任務等，促進學童的執行功能，從而提升學童完成學習、自理及群體活動的信心和技巧。​ \n執行功能訓練小組好處​ \n\n改善自我控制能力​\n提升工作記憶​\n提升彈性思維​\n提高專注力​\n提升解難能力​\n\n導師：\n註冊一級職業治療師 — 顧靜儀 \n成功報名可獲贈「目標訂立磁石板」一份。
URL:https://skhwcwelove.org.hk/event/%e5%ae%8c%e6%88%90%e6%b4%bb%e5%8b%95%e7%84%a1%e9%9b%a3%e5%ba%a6-%e5%9f%b7%e8%a1%8c%e8%83%bd%e8%a8%93%e7%b7%b4%e5%b0%8f%e7%b5%84-%ef%bc%88%e5%9f%ba%e7%a4%8e%e7%8f%ad%ef%bc%89/
CATEGORIES:Welove_Event
ATTACH;FMTTYPE=image/jpeg:https://skhwcwelove.org.hk/wp-content/uploads/2022/05/7.jpg
END:VEVENT
BEGIN:VEVENT
DTSTART;VALUE=DATE:20211023
DTEND;VALUE=DATE:20211121
DTSTAMP:20260420T162044
CREATED:20211005T042531Z
LAST-MODIFIED:20220503T043153Z
UID:2935-1634947200-1637452799@skhwcwelove.org.hk
SUMMARY:活出小珍寶 - 治療舞蹈小組
DESCRIPTION:———————————————— ​\n感統大挑戰 – 感覺統合訓練\n日期：2021 年 9 月 18 日 – 12 月 4 日（逢星期六，共 10 節）​\n時間：下午 2 時 15 分至下午 3 時 15 分​\n對象：4 – 6 歲已評估或懷疑有特殊學習需要的學童​\n​報名及查詢： 8201 1163​\n中心地址：九龍馬頭涌道 139 號聖三一白普理中心 3 樓（宋皇臺站 B1 出口）​\n​\n———————————————— ​ \n以「即興創作性舞蹈」作為教學形式，讓兒童透過肢體動作表達內心感受，按每位兒童的獨特性，發揮個人潛​能！ \n活動目標：​ \n\n提升專注力​\n加強身體協調​\n提升自控能力​\n改善空間感\n\n導師：\n註冊運動舞蹈教練兼註冊特殊幼兒工作員 — 梁潔儀
URL:https://skhwcwelove.org.hk/event/%e6%b4%bb%e5%87%ba%e5%b0%8f%e7%8f%8d%e5%af%b6-%e6%b2%bb%e7%99%82%e8%88%9e%e8%b9%88%e5%b0%8f%e7%b5%84/
CATEGORIES:Welove_Event
ATTACH;FMTTYPE=image/jpeg:https://skhwcwelove.org.hk/wp-content/uploads/2022/05/3.jpg
END:VEVENT
BEGIN:VEVENT
DTSTART;VALUE=DATE:20211023
DTEND;VALUE=DATE:20211128
DTSTAMP:20260420T162044
CREATED:20211005T042322Z
LAST-MODIFIED:20220503T043132Z
UID:2932-1634947200-1638057599@skhwcwelove.org.hk
SUMMARY:感統大挑戰 - 感覺統合訓練
DESCRIPTION:———————————————— ​\n感統大挑戰 – 感覺統合訓練\n日期：2021 年 9 月 4 日 – 10 月 30 日（逢星期五，共 8 堂）​\n時間：上午 11 時 30 分至中午 12 時 30 分​\n對象：小一至小三學童（己評估或懷疑有特殊學習需要學童）​\n​報名及查詢： 8201 1163​\n中心地址：九龍馬頭涌道 139 號聖三一白普理中心 3 樓（宋皇臺站 B1 出口）​\n​\n———————————————— ​ \n透過不同類型及不同程度的感覺刺激活動，包括前庭感、本體感、觸感等，改善大腦處理及統合不同感覺訊息的能力，幫助幼童達至合適的醒覺狀態，從而提升專注力及肢體協調能力，提高學習效能。 \n\n提升動作計劃\n提升肢體協調能力\n提升按步驟執行指令能力\n改善大腦處理及統合不同感覺訊息\n\n導師：\n註冊一級職業治療師 — 顧靜儀
URL:https://skhwcwelove.org.hk/event/%e6%84%9f%e7%b5%b1%e5%a4%a7%e6%8c%91%e6%88%b0-%e6%84%9f%e8%a6%ba%e7%b5%b1%e5%90%88%e8%a8%93%e7%b7%b4/
CATEGORIES:Welove_Event
ATTACH;FMTTYPE=image/jpeg:https://skhwcwelove.org.hk/wp-content/uploads/2022/05/5.jpg
END:VEVENT
BEGIN:VEVENT
DTSTART;VALUE=DATE:20211016
DTEND;VALUE=DATE:20211121
DTSTAMP:20260420T162044
CREATED:20211005T041131Z
LAST-MODIFIED:20220503T043229Z
UID:2927-1634342400-1637452799@skhwcwelove.org.hk
SUMMARY:專注力及社交Fun Fun樂
DESCRIPTION:———————————————— ​\n日期：2021 年 9 月 18 日 – 12 月 4 日（逢星期六，共 10 節）​\n時間：上午 11 時 45 分至中午 12 時 45 分​\n對象：4 – 6 歲懷疑或已評估有特殊學習需要的兒童​\n查詢及報名： 8201 1163​ \n———————————————— ​ \n透過多元化的專注力活動，包括特別推介:「社交劇場」、律動、聆聽、指令、記憶力及情緒控制遊戲等，讓孩子快樂且充滿自信地成長！ \n學習校園基本常規訓練​： \n安靜、坐好、排隊、輪候、收拾、邀請同學 \n活動目標： \n\n提升學習專注\n加強與人溝通\n提升社交技巧\n聆聽指令執行\n\n導師：\n資深特殊幼兒工作員兼藝術導師 — 梁潔儀
URL:https://skhwcwelove.org.hk/event/%e5%b0%88%e6%b3%a8%e5%8a%9b%e5%8f%8a%e7%a4%be%e4%ba%a4fun-fun%e6%a8%82/
CATEGORIES:Welove_Event
ATTACH;FMTTYPE=image/jpeg:https://skhwcwelove.org.hk/wp-content/uploads/2022/05/1.jpg
END:VEVENT
BEGIN:VEVENT
DTSTART;TZID=Asia/Hong_Kong:20211005T080000
DTEND;TZID=Asia/Hong_Kong:20211005T170000
DTSTAMP:20260420T162044
CREATED:20211005T045245Z
LAST-MODIFIED:20220503T043315Z
UID:2942-1633420800-1633453200@skhwcwelove.org.hk
SUMMARY:「感知社交-孖住上」 - 幼兒綜合訓練小組
DESCRIPTION:————————————————\n日期：2021 年 9 月 17 日 – 11 月 12 日（逢星期五，共8 堂）\n時間：上午 9 時 30 分至 11 時正\n對象：1.5 – 3歲懷疑有特殊學習需要的幼兒 （尚未入學幼兒優先）\n查詢及報名：8201 1163 \n———————————————— \n透過多元化的專注力活動，包括：感覺統合訓練、聆聽指令、律動模仿、課堂規則及社交遊戲等訓練，好讓幼兒快樂且充滿自信地成長！ \n活動目標：\n認知 – 數前概念\n語言 – 句子結構\n社交技巧 – 學習遵守規則、輪流等候\n感知統合 – 大小肌、動作及肢體協調\n專注聆聽及執行指令 \n解決孩子無法跟隨指令、坐不定等問題\n提學習專注，加強與人溝通\n為學前打好基礎\n讓他們快樂且充滿自信地成長
URL:https://skhwcwelove.org.hk/event/%e6%84%9f%e7%9f%a5%e7%a4%be%e4%ba%a4%e5%ad%96%e4%bd%8f%e4%b8%8a/
CATEGORIES:Welove_Event
ATTACH;FMTTYPE=image/jpeg:https://skhwcwelove.org.hk/wp-content/uploads/2022/05/4.jpg
END:VEVENT
BEGIN:VEVENT
DTSTART;TZID=Asia/Hong_Kong:20211005T080000
DTEND;TZID=Asia/Hong_Kong:20211005T170000
DTSTAMP:20260420T162044
CREATED:20211005T042828Z
LAST-MODIFIED:20220503T043254Z
UID:2940-1633420800-1633453200@skhwcwelove.org.hk
SUMMARY:非洲鼓班
DESCRIPTION:———————————————— ​ \n\n日期：2021 年 9 月 18 日 – 12 月 4 日（逢星期六，共 10 堂，30/10及27/11除外）\n時間：上午 10 時 30 分至中午 11 時 30 分\n對象：4 – 6 歲懷疑或已評估有特殊學習需要的兒童\n查詢及報名： 8201 1163\n\n———————————————— ​ \n非洲鼓學習提昇兒童專注力，有效建立節奏感、自信心、服從性及團隊精神，並且改善兒童各方面的學習能力。 \n透過Drum Circle，讓兒童留意身邊的人和事情，作出適當回應及表達，提升社交溝通技巧及有助情緒抒發。 \n學習成效 \n\n提升學習專注\n提升社交溝通技巧\n有助情緒抒發\n加強觀察力\n\n導師：\n資深特殊幼兒工作員兼藝術導師 — 梁潔儀 \n\n\n註：於「Fun Fun樂」課程最後一堂4/12/2021（上午）會進行才藝匯演之「社交劇場」，請家長預留時間一同出席，透過小型表演，提升幼兒自信心和專注力，詳情容後公佈。
URL:https://skhwcwelove.org.hk/event/%e9%9d%9e%e6%b4%b2%e9%bc%93%e7%8f%ad/
CATEGORIES:Welove_Event
ATTACH;FMTTYPE=image/jpeg:https://skhwcwelove.org.hk/wp-content/uploads/2022/05/2.jpg
END:VEVENT
END:VCALENDAR